BEGIN:VCALENDAR
VERSION:2.0
PRODID:-//ChamberMaster//Event Calendar 2.0//EN
METHOD:PUBLISH
X-PUBLISHED-TTL:P3D
REFRESH-INTERVAL:P3D
CALSCALE:GREGORIAN
BEGIN:VEVENT
DTSTART;VALUE=DATE:20170423
DTEND;VALUE=DATE:20170424
TRANSP:TRANSPARENT
X-MICROSOFT-CDO-ALLDAYEVENT:TRUE
SUMMARY:Bottles\, Beaches & Boats Festival at Haak Vineyards & Winery
DESCRIPTION:Live Music\, Great Food\, Boat Show & Fun
X-ALT-DESC;FMTTYPE=text/html:Live Music\, Great Food\, Boat Show &amp\; Fun
LOCATION:
UID:e.451.6191
SEQUENCE:3
DTSTAMP:20260424T123834Z
URL:https://www.santafetxchamber.com/events/details/bottles-beaches-boats-festival-at-haak-vineyards-winery-6191
END:VEVENT

END:VCALENDAR
