BEGIN:VCALENDAR
VERSION:2.0
PRODID:-//ChamberMaster//Event Calendar 2.0//EN
METHOD:PUBLISH
X-PUBLISHED-TTL:P3D
REFRESH-INTERVAL:P3D
CALSCALE:GREGORIAN
BEGIN:VEVENT
DTSTART:20210802T150000Z
DTEND:20210802T193000Z
X-MICROSOFT-CDO-ALLDAYEVENT:FALSE
SUMMARY:Blood Drive - United Way Galveston County Mainland
DESCRIPTION:
X-ALT-DESC;FMTTYPE=text/html:
LOCATION:
UID:e.451.7833
SEQUENCE:3
DTSTAMP:20260421T085642Z
URL:https://www.santafetxchamber.com/events/details/blood-drive-united-way-galveston-county-mainland-7833
END:VEVENT

END:VCALENDAR
