BEGIN:VCALENDAR
VERSION:2.0
PRODID:-//ChamberMaster//Event Calendar 2.0//EN
METHOD:PUBLISH
X-PUBLISHED-TTL:P3D
REFRESH-INTERVAL:P3D
CALSCALE:GREGORIAN
BEGIN:VEVENT
DTSTART:20210814T170000Z
DTEND:20210814T230000Z
X-MICROSOFT-CDO-ALLDAYEVENT:FALSE
SUMMARY:Big Mike the Barber Benefit
DESCRIPTION:
X-ALT-DESC;FMTTYPE=text/html:
LOCATION:VFW Post 5400
UID:e.451.7835
SEQUENCE:3
DTSTAMP:20260421T094513Z
URL:https://www.santafetxchamber.com/events/details/big-mike-the-barber-benefit-7835
END:VEVENT

END:VCALENDAR
