BEGIN:VCALENDAR
VERSION:2.0
PRODID:-//ChamberMaster//Event Calendar 2.0//EN
METHOD:PUBLISH
X-PUBLISHED-TTL:P3D
REFRESH-INTERVAL:P3D
CALSCALE:GREGORIAN
BEGIN:VEVENT
DTSTART:20210724T220000Z
DTEND:20210725T020000Z
X-MICROSOFT-CDO-ALLDAYEVENT:FALSE
SUMMARY:Bark in the Park
DESCRIPTION:
X-ALT-DESC;FMTTYPE=text/html:
LOCATION:Three Acres Food Truck Park
UID:e.451.7839
SEQUENCE:3
DTSTAMP:20260421T111624Z
URL:https://www.santafetxchamber.com/events/details/bark-in-the-park-7839
END:VEVENT

END:VCALENDAR
