BEGIN:VCALENDAR
VERSION:2.0
PRODID:-//ChamberMaster//Event Calendar 2.0//EN
METHOD:PUBLISH
X-PUBLISHED-TTL:P3D
REFRESH-INTERVAL:P3D
CALSCALE:GREGORIAN
BEGIN:VEVENT
DTSTART;VALUE=DATE:20160429
DTEND;VALUE=DATE:20160430
TRANSP:TRANSPARENT
X-MICROSOFT-CDO-ALLDAYEVENT:TRUE
SUMMARY:Arcadia First Baptist Christian School Annual Dinner
DESCRIPTION:Arcadia First Baptist Christian School has been blessed tremendously through its first three years and the Lord has continued to bless us during our fourth year. From the school's humble beginning with only 18 students\, we have grown to over 120 students\, and this year we have added our first high school class. \n\nWe also have a number of extracurricular activities\, including volleyball\, basketball\, golf\, choir and band\, as well as many others. We have only been able to accomplish this through the dedication and hard work of our teachers\, staff and parents\, and most of all with help from God.\n\n\n\nEvent Information: Event Letter\, Donation Form\, Program Sponsor Ad Form\, Underwriting Levels\, Underwriting Form
X-ALT-DESC;FMTTYPE=text/html:<span style="color:#343D3A\;"><span style="font-family:georgia\,serif\;"><span style="font-size:11.0pt\;">Arcadia First Baptist Christian School has been blessed tremendously through its first three years and the </span></span></span><span style="color:#343D3A\;"><span style="font-family:georgia\,serif\;"><span style="font-size:11.0pt\;">Lord has continued to bless us during our fourth year. From the school&#39\;s humble beginning with only 18 students\, </span></span></span><span style="color:#343D3A\;"><span style="font-family:georgia\,serif\;"><span style="font-size:11.0pt\;">we have grown to over 120 students\, and this year we have added our first high school class.&nbsp\;</span></span></span><br />\n<span style="color:#343D3A\;"><span style="font-family:georgia\,serif\;"><span style="font-size:11.0pt\;">We also have a number of extracurricular activities\, including volleyball\, basketball\, golf\, choir and band\, </span></span></span><span style="color:#343D3A\;"><span style="font-family:georgia\,serif\;"><span style="font-size:11.0pt\;">as well as many others. We have only been able to accomplish this through the dedication </span></span></span><span style="color:#343D3A\;"><span style="font-family:georgia\,serif\;"><span style="font-size:11.0pt\;">and hard work of our teachers\, staff and parents\, and most of all with help from God.<br />\n<br />\nEvent Information: <a href="http://cloud.chambermaster.com/userfiles/UserFiles/chambers/451/File/AFBCSBusinessletter2.pdf">Event Letter</a>\, <a href="http://cloud.chambermaster.com/userfiles/UserFiles/chambers/451/File/AFBCSDonationForm.pdf">Donation Form</a>\, <a href="http://cloud.chambermaster.com/userfiles/UserFiles/chambers/451/File/AFBCSSponsorAd2.pdf">Program Sponsor Ad Form</a>\, <a href="http://cloud.chambermaster.com/userfiles/UserFiles/chambers/451/File/AFBCSUnderwritingLevels1.pdf">Underwriting Levels</a>\, <a href="http://cloud.chambermaster.com/userfiles/UserFiles/chambers/451/File/AFBCSUnderwritingPg2.pdf">Underwriting Form</a></span></span></span>
LOCATION:
UID:e.451.5155
SEQUENCE:3
DTSTAMP:20260425T104153Z
URL:https://www.santafetxchamber.com/events/details/arcadia-first-baptist-christian-school-annual-dinner-04-29-2016-5155
END:VEVENT

END:VCALENDAR
