BEGIN:VCALENDAR
VERSION:2.0
PRODID:-//ChamberMaster//Event Calendar 2.0//EN
METHOD:PUBLISH
X-PUBLISHED-TTL:P3D
REFRESH-INTERVAL:P3D
CALSCALE:GREGORIAN
BEGIN:VEVENT
DTSTART:20210130T000000Z
DTEND:20210130T040000Z
X-MICROSOFT-CDO-ALLDAYEVENT:FALSE
SUMMARY:Annual Awards' Dinner & Gala ~ 2021
DESCRIPTION:POSTPONED...\n\n\n\nThis year we'll be travelling  "Back to the Future" of the 1980's...\n\n\n\nOur Annual Awards' Dinner & Gala is a fun event hosted the last Friday in January each year. At this event we recognize Small Business\, Large Business\, New Chamber Member Business\, Non-Profit and Chamber Citizen of the Year for their dedication and service to Santa Fe. The Nominees are submitted by fellow Chamber Members and then sent out through social media and email to the community for final vote.\n\n\n\nThe Menu\, provided by Chamber Member\, Southern Elegance Catering:\n\n\n\nFeel free to dress the theme.
X-ALT-DESC;FMTTYPE=text/html:<p>POSTPONED...<br />\n<br />\nThis year we&#39\;ll be travelling&nbsp\;&nbsp\;&quot\;Back to the Future&quot\; of the 1980&#39\;s...<br />\n<br />\nOur Annual Awards&#39\;&nbsp\;Dinner &amp\; Gala is a fun event hosted the last Friday in January each year. At this event we recognize Small Business\, Large Business\, New Chamber Member Business\, Non-Profit and Chamber Citizen of the Year for their dedication and service to Santa Fe. The Nominees are submitted by fellow Chamber Members and then sent out through social media and email to the community for final vote.<br />\n<br />\nThe Menu\, provided by Chamber Member\, Southern Elegance Catering:<br />\n<br />\nFeel free to dress the theme.<br />\n<br />\n&nbsp\;</p>\n
LOCATION:Santa Fe Fire & Rescue Station 1
UID:e.451.7818
SEQUENCE:3
DTSTAMP:20260421T184916Z
URL:https://www.santafetxchamber.com/events/details/annual-awards-dinner-gala-2021-7818
END:VEVENT

END:VCALENDAR
