BEGIN:VCALENDAR
VERSION:2.0
PRODID:-//ChamberMaster//Event Calendar 2.0//EN
METHOD:PUBLISH
X-PUBLISHED-TTL:P3D
REFRESH-INTERVAL:P3D
CALSCALE:GREGORIAN
BEGIN:VEVENT
DTSTART:20200201T000000Z
DTEND:20200201T040000Z
X-MICROSOFT-CDO-ALLDAYEVENT:FALSE
SUMMARY:Annual Awards' Dinner & Gala ~ 2020
DESCRIPTION:We will be ROARING into the 20's this YEAR...\n\n\n\nOur Annual Awards' Dinner & Gala is a fun event hosted the last Friday in January each year. At this event we recognize Small Business\, Large Business\, New Chamber Member Business\, Non-Profit and Chamber Citizen of the Year for their dedication and service to Santa Fe. The Nominees are submitted by fellow Chamber Members and then sent out through social media and email to the community for final vote.\n\n\n\nThe Menu\, provided by Chamber Member\, Southern Elegance Catering:\n\n\n\nFeel free to dress the theme.
X-ALT-DESC;FMTTYPE=text/html:<p>We will be ROARING into the 20&#39\;s this YEAR...<br />\n<br />\nOur Annual Awards&#39\;&nbsp\;Dinner &amp\; Gala is a fun event hosted the last Friday in January each year. At this event we recognize Small Business\, Large Business\, New Chamber Member Business\, Non-Profit and Chamber Citizen of the Year for their dedication and service to Santa Fe. The Nominees are submitted by fellow Chamber Members and then sent out through social media and email to the community for final vote.<br />\n<br />\nThe Menu\, provided by Chamber Member\, Southern Elegance Catering:<br />\n<br />\nFeel free to dress the theme.<br />\n<br />\n&nbsp\;</p>\n
LOCATION:Santa Fe Fire & Rescue Station 1
UID:e.451.7803
SEQUENCE:3
DTSTAMP:20260422T124045Z
URL:https://www.santafetxchamber.com/events/details/annual-awards-dinner-gala-2020-7803
END:VEVENT

END:VCALENDAR
