BEGIN:VCALENDAR
VERSION:2.0
PRODID:-//ChamberMaster//Event Calendar 2.0//EN
METHOD:PUBLISH
X-PUBLISHED-TTL:P3D
REFRESH-INTERVAL:P3D
CALSCALE:GREGORIAN
BEGIN:VEVENT
DTSTART:20190126T000000Z
DTEND:20190126T040000Z
X-MICROSOFT-CDO-ALLDAYEVENT:FALSE
SUMMARY:Annual Awards' Dinner & Gala ~ 2019
DESCRIPTION:Our Annual Awards? Dinner & Gala is a fun event hosted the last Friday in January each year. At this event we recognize Small Business\, Large Business\, New Chamber Member Business\, Non-Profit and Chamber Citizen of the Year for their dedication and service to Santa Fe. The Nominees are submitted by fellow Chamber Members and then sent out through social media and email to the community for final vote.\n\n\n\nThe Menu\, provided by Chamber Member\, Southern Elegance Catering:\n\nFlat Iron Steak with Chimichurri Sauce\n\nAu Gratin Potatoes\n\nSeasoned Green Beans\n\nTossed Garden Salad with your choice of Ranch or Sun-Dried Tomato Vinaigrette\n\nRolls & Butter
X-ALT-DESC;FMTTYPE=text/html:<p>Our Annual Awards? Dinner &amp\; Gala is a fun event hosted the last Friday in January each year. At this event we recognize Small Business\, Large Business\, New Chamber Member Business\, Non-Profit and Chamber Citizen of the Year for their dedication and service to Santa Fe. The Nominees are submitted by fellow Chamber Members and then sent out through social media and email to the community for final vote.<br />\n<br />\nThe Menu\, provided by Chamber Member\, Southern Elegance Catering:<br />\nFlat Iron Steak with Chimichurri Sauce<br />\nAu Gratin Potatoes<br />\nSeasoned Green Beans<br />\nTossed Garden Salad with your choice of Ranch or Sun-Dried Tomato Vinaigrette<br />\nRolls &amp\; Butter</p>\n
LOCATION:Santa Fe Fire & Rescue Station 1
UID:e.451.6633
SEQUENCE:3
DTSTAMP:20260423T062710Z
URL:https://www.santafetxchamber.com/events/details/annual-awards-dinner-gala-2019-6633
END:VEVENT

END:VCALENDAR
