BEGIN:VCALENDAR
VERSION:2.0
PRODID:-//ChamberMaster//Event Calendar 2.0//EN
METHOD:PUBLISH
X-PUBLISHED-TTL:P3D
REFRESH-INTERVAL:P3D
CALSCALE:GREGORIAN
BEGIN:VEVENT
DTSTART:20180127T000000Z
DTEND:20180127T040000Z
X-MICROSOFT-CDO-ALLDAYEVENT:FALSE
SUMMARY:Annual Awards' Dinner & Gala ~ 2018
DESCRIPTION:41st Annual Awards' Dinner & Gala\n\nDust off those Boots\, polish that Bling and JOIN US for a night of Fun\, Dancing\, Games\, Prizes and BEST OF ALL ~ Awarding 2017's Small Business\, Large Business\, New Business\, Non Profit and Chamber Citizen of the Year. \n\n \n\nSocial hour will begin at 6:00 p.m. with dinner at 7:00 p.m and the 2017 Awards' Presentation at 8:00 p.m.
X-ALT-DESC;FMTTYPE=text/html:<p><strong><span style="color:#555555\;"><span style="font-family:georgia\,serif\;"><span style="font-size:10.0pt\;">41st Annual Awards&#39\; Dinner &amp\; Gala</span></span></span></strong></p>\n\n<p><strong><span style="color:#555555\;"><span style="font-family:georgia\,serif\;"><span style="font-size:10.0pt\;">Dust off those Boots\, polish that Bling and JOIN US for a night of Fun\, Dancing\, Games\, Prizes and BEST OF ALL ~ Awarding 2017&#39\;s Small Business\, Large Business\, New Business\, Non Profit and Chamber Citizen of the Year. </span></span></span></strong><br />\n&nbsp\;<br />\n<strong><span style="color:#555555\;"><span style="font-family:georgia\,serif\;"><span style="font-size:10.0pt\;">Social hour will begin at 6:00 p.m. with dinner at 7:00 p.m and the 2017 Awards&#39\; Presentation at 8:00 p.m.</span></span></span></strong></p>\n
LOCATION:Santa Fe Fire & Rescue Station 1
UID:e.451.6430
SEQUENCE:3
DTSTAMP:20260424T041824Z
URL:https://www.santafetxchamber.com/events/details/annual-awards-dinner-gala-2018-6430
END:VEVENT

END:VCALENDAR
