BEGIN:VCALENDAR
VERSION:2.0
PRODID:-//ChamberMaster//Event Calendar 2.0//EN
METHOD:PUBLISH
X-PUBLISHED-TTL:P3D
REFRESH-INTERVAL:P3D
CALSCALE:GREGORIAN
BEGIN:VEVENT
DTSTART:20170128T000000Z
DTEND:20170128T050000Z
X-MICROSOFT-CDO-ALLDAYEVENT:FALSE
SUMMARY:Annual Awards' Dinner & Gala ~ 2017
DESCRIPTION:Calling all COOL CATS... JOIN US as we honor 2016's Small Business\, Large Business\, New Business\, Non-Profit and Chamber Citizen of the Year. \n\n \n\nWe'll throwback to the 70's with a GROOVY night of Gaming and a FUNKADELIC BEAT so all you need to bring is your DANCING FEET. \n\n \n\nIndividual Dinner Tickets are $25   Attached you will find sponsorship and advertising opportunities ranging from $125 to $1\,000.  Submit your commitment early and maximize your exposure as invitations and event advertisement will begin on Monday\, December 28th and continue weekly until the event.  We are also taking donations for raffle items.
X-ALT-DESC;FMTTYPE=text/html:<span style="font-family:georgia\,serif\;">Calling all COOL CATS...<span style="font-size:10.5pt\;"> JOIN US as we honor 2016&#39\;s Small Business\, Large Business\, New Business\, Non-Profit and Chamber Citizen of the Year. </span></span><br />\n&nbsp\;<br />\n<span style="font-family:georgia\,serif\;"><span style="font-size:10.5pt\;">We&#39\;ll throwback to the 70&#39\;s with a GROOVY night of Gaming and a FUNKADELIC BEAT so all you need to bring is your DANCING FEET. </span></span><br />\n&nbsp\;<br />\n<span style="font-family:georgia\,serif\;"><span style="font-size:10.5pt\;">Individual Dinner Tickets are $25 &nbsp\; Attached you will find <strong><a href="http://files.constantcontact.com/e664cb2f001/f4100b97-df10-4cfc-ade8-2f704d5cc1f3.pdf">sponsorship and advertising opportunities</a></strong>&nbsp\;ranging from&nbsp\;$125 to $1\,000.&nbsp\; Submit your commitment early and maximize your exposure as invitations and event advertisement will begin on Monday\, December 28th and continue weekly until the event. &nbsp\;We are also taking donations for raffle items.</span></span>
LOCATION:
UID:e.451.6148
SEQUENCE:3
DTSTAMP:20260424T185056Z
URL:https://www.santafetxchamber.com/events/details/annual-awards-dinner-gala-2017-6148
END:VEVENT

END:VCALENDAR
