BEGIN:VCALENDAR
VERSION:2.0
PRODID:-//ChamberMaster//Event Calendar 2.0//EN
METHOD:PUBLISH
X-PUBLISHED-TTL:P3D
REFRESH-INTERVAL:P3D
CALSCALE:GREGORIAN
BEGIN:VEVENT
DTSTART:20190323T150000Z
DTEND:20190323T200000Z
X-MICROSOFT-CDO-ALLDAYEVENT:FALSE
SUMMARY:Animal Alliance of Galveston County Raising Cane's Fundraiser
DESCRIPTION:2586 E. League City Parkway\n\nLeague City\, TX 77573\n\n\n\nMention the fundraiser at the register and Cane's will donate 15% of sales to Animal Alliance of Galveston County.
X-ALT-DESC;FMTTYPE=text/html:2586 E. League City Parkway<br />\nLeague City\, TX 77573<br />\n<br />\nMention the fundraiser at the register and Cane&#39\;s will donate 15% of sales to Animal Alliance of Galveston County.
LOCATION:
UID:e.451.7239
SEQUENCE:3
DTSTAMP:20260423T033742Z
URL:https://www.santafetxchamber.com/events/details/animal-alliance-of-galveston-county-raising-cane-s-fundraiser-7239
END:VEVENT

END:VCALENDAR
