BEGIN:VCALENDAR
VERSION:2.0
PRODID:-//ChamberMaster//Event Calendar 2.0//EN
METHOD:PUBLISH
X-PUBLISHED-TTL:P3D
REFRESH-INTERVAL:P3D
CALSCALE:GREGORIAN
BEGIN:VEVENT
DTSTART:20161021T230000Z
DTEND:20161022T030000Z
X-MICROSOFT-CDO-ALLDAYEVENT:FALSE
SUMMARY:An Evening for Education ~ Santa Fe Texas Education Foundation Gala
DESCRIPTION:Santa Fe ISD's Education Foundation will honor local veterans at its 7th annual gala\, An Evening for Education. The event starts at 6 pm on October 21\, at Santa Fe Fire & Rescue.\n\n\n\nWe welcome the community to attend\, and to participate by submitting a photo of a veteran for a special video presentation at our event. The video will also be shared online\, and it will become a part of the collection of the Santa Fe Area Historical Foundation.\n\n\n\nIf you would like to honor a veteran family member or friend\, please email the following to veteran.project@sfisd.org:\n\n\n	1 photo of your honoree veteran (attach a .jpg\, .jpeg\, or .gif file\, about 5 MB in size)\n	Veteran's name\n	Which military branch they served\n	What years they served\n	Name of the person sending the veteran info (this will be our contact if there are questions)\n	Deadline: October 17\, 2016\n\nIf you only have a hardcopy print of your veteran photo\, you may call Jodi at 409-925-9080 to make an appointment to have us scan your photo. If you bring a cd or flash drive\, we will also provide you with a copy to keep.
X-ALT-DESC;FMTTYPE=text/html:<span style="color:#343D3A\;"><span style="font-family:georgia\,serif\;">Santa Fe ISD&#39\;s Education Foundation will honor local veterans at its 7th annual gala\, An Evening for Education. The event starts at 6 pm on October 21\, at Santa Fe Fire &amp\; Rescue.</span></span><br />\n<br />\n<span style="color:#343D3A\;"><span style="font-family:georgia\,serif\;">We welcome the community to attend\, and to participate by submitting a photo of a veteran for a special video presentation at our event. The video will also be shared online\, and it will become a part of the collection of the Santa Fe Area Historical Foundation.</span></span><br />\n<br />\n<span style="color:#343D3A\;"><span style="font-family:georgia\,serif\;">If you would like to honor a veteran family member or friend\, please email the following to <a href="mailto:veteran.project@sfisd.org">veteran.project@sfisd.org</a>:</span></span>\n\n<ol>\n	<li align="left" style="color:#343D3A\;"><span style="font-family:georgia\,serif\;">1 photo of your honoree veteran </span><span style="font-family:georgia\,serif\;"><span style="font-size:10.0pt\;">(attach a .jpg\, .jpeg\, or .gif file\, about 5 MB in size)</span></span></li>\n	<li align="left" style="color:#343D3A\;"><span style="font-family:georgia\,serif\;">Veteran&#39\;s name</span></li>\n	<li align="left" style="color:#343D3A\;"><span style="font-family:georgia\,serif\;">Which military branch they served</span></li>\n	<li align="left" style="color:#343D3A\;"><span style="font-family:georgia\,serif\;">What years they served</span></li>\n	<li align="left" style="color:#343D3A\;"><span style="font-family:georgia\,serif\;">Name of the person sending the veteran info </span><span style="font-family:georgia\,serif\;"><span style="font-size:10.0pt\;">(this will be our contact if there are questions)</span></span></li>\n	<li align="left" style="color:#343D3A\;"><span style="font-family:georgia\,serif\;">Deadline: October 17\, 2016</span></li>\n</ol>\n<span style="color:#343D3A\;"><span style="font-family:georgia\,serif\;"><span style="font-size:12.0pt\;">If you only have a hardcopy print of your veteran photo\, you may call Jodi at 409-925-9080 to make an appointment to have us scan your photo. If you bring a cd or flash drive\, we will also provide you with a copy to keep.</span></span></span>
LOCATION:
UID:e.451.6119
SEQUENCE:3
DTSTAMP:20260424T215530Z
URL:https://www.santafetxchamber.com/events/details/an-evening-for-education-santa-fe-texas-education-foundation-gala-6119
END:VEVENT

END:VCALENDAR
