BEGIN:VCALENDAR
VERSION:2.0
PRODID:-//ChamberMaster//Event Calendar 2.0//EN
METHOD:PUBLISH
X-PUBLISHED-TTL:P3D
REFRESH-INTERVAL:P3D
CALSCALE:GREGORIAN
BEGIN:VEVENT
DTSTART:20231004T223000Z
DTEND:20231005T003000Z
X-MICROSOFT-CDO-ALLDAYEVENT:FALSE
SUMMARY:After Hours Business Networking Mixer
DESCRIPTION:Join the community and local business owners and network to learn more about Santa Fe businesses.
X-ALT-DESC;FMTTYPE=text/html:Join the community and local business owners and network to learn more about Santa Fe businesses.
LOCATION:4225 fm 646 \, santa fe\, tx 4225 fm 646
UID:e.451.9256
SEQUENCE:3
DTSTAMP:20260419T215049Z
URL:https://www.santafetxchamber.com/events/details/after-hours-business-networking-mixer-9256
END:VEVENT

END:VCALENDAR
