BEGIN:VCALENDAR
VERSION:2.0
PRODID:-//ChamberMaster//Event Calendar 2.0//EN
METHOD:PUBLISH
X-PUBLISHED-TTL:P3D
REFRESH-INTERVAL:P3D
CALSCALE:GREGORIAN
BEGIN:VEVENT
DTSTART:20190323T150000Z
DTEND:20190323T160000Z
X-MICROSOFT-CDO-ALLDAYEVENT:FALSE
SUMMARY:Adult Workshop - Making a Succulent Wreath
DESCRIPTION:Saturday\, March 23rd\n\nAdult Workshop - Making a Succulent Wreath\n\n\n\nWhat a fun treat to enjoy all year long! Join us to make your own succulent wreath. We provide all the supplies. You choose which succulents to put on your wreath\, then we work with you to make it your very own creation.\n\n\n\n10 a.m. - 11 a.m. ~ Price TBD\n\n\n\nE-mail Joanne at jimbosnursery75@gmail.com or call us at (409) 925-6933 to reserve your spot.
X-ALT-DESC;FMTTYPE=text/html:<span style="background-image:initial\;background-position:initial\;background-size:initial\;background-repeat:initial\;background-attachment:initial\;background-origin:initial\;background-clip:initial\;"><span style="color:#d95000\;"><span style="font-family:helvetica\,sans-serif\;"><span style="font-size:10.5pt\;">Saturday\, March 23rd<br />\nAdult Workshop - Making a Succulent Wreath</span></span></span></span><br />\n<br />\n<span style="background-image:initial\;background-position:initial\;background-size:initial\;background-repeat:initial\;background-attachment:initial\;background-origin:initial\;background-clip:initial\;"><span style="color:#d95000\;"><span style="font-family:helvetica\,sans-serif\;"><span style="font-size:10.5pt\;"><span style="white-space:pre-wrap\;">What a fun treat to enjoy all year long! Join us to make your own succulent wreath. We provide all the supplies. You choose which succulents to put on your wreath\, then we work with you to make it your very own creation.<br />\n<br />\n10 a.m. - 11 a.m. ~ </span></span></span></span></span><span style="color:#D95000\;"><span style="font-family:helvetica\,sans-serif\;"><span style="font-size:10.5pt\;"><span style="background-image:initial\;background-position:initial\;background-size:initial\;background-repeat:initial\;background-attachment:initial\;background-origin:initial\;background-clip:initial\;"><span style="white-space:pre-wrap\;">Price TBD</span></span><br />\n<br style="white-space:pre-wrap\;" />\n<span style="background-image:initial\;background-position:initial\;background-size:initial\;background-repeat:initial\;background-attachment:initial\;background-origin:initial\;background-clip:initial\;"><span style="white-space:pre-wrap\;">E-mail Joanne at <a href="mailto:jimbosnursery75@gmail.com">jimbosnursery75@gmail.com</a> or call us at (409) 925-6933 to reserve your spot.</span></span></span></span></span>
LOCATION:
UID:e.451.6694
SEQUENCE:3
DTSTAMP:20260423T050133Z
URL:https://www.santafetxchamber.com/events/details/adult-workshop-making-a-succulent-wreath-6694
END:VEVENT

END:VCALENDAR
