BEGIN:VCALENDAR
VERSION:2.0
PRODID:-//ChamberMaster//Event Calendar 2.0//EN
METHOD:PUBLISH
X-PUBLISHED-TTL:P3D
REFRESH-INTERVAL:P3D
CALSCALE:GREGORIAN
BEGIN:VEVENT
DTSTART:20190406T150000Z
DTEND:20190406T160000Z
X-MICROSOFT-CDO-ALLDAYEVENT:FALSE
SUMMARY:Adult Workshop - Hanging Basket\, Fun with Color
DESCRIPTION:Saturday\, April 6th\n\nAdult Workshop - Hanging Basket fun with Color\n\n\n\nWhat a better way to add some color in your yard than with a colorful hanging basket. Pick your own plants then create your own arrangement.\n\n\n\n10 a.m. - 11 a.m. ~ $25/person\n\n\n\nE-mail Joanne at jimbosnursery75@gmail.com or call us at (409) 925-6933 to reserve your spot
X-ALT-DESC;FMTTYPE=text/html:<span style="background-image:initial\;background-position:initial\;background-size:initial\;background-repeat:initial\;background-attachment:initial\;background-origin:initial\;background-clip:initial\;"><span style="color:#669c35\;"><span style="font-family:helvetica\,sans-serif\;"><span style="font-size:10.5pt\;">Saturday\, April 6th<br />\nAdult Workshop - Hanging Basket fun with Color</span></span></span></span><br />\n<br />\n<span style="background-image:initial\;background-position:initial\;background-size:initial\;background-repeat:initial\;background-attachment:initial\;background-origin:initial\;background-clip:initial\;"><span style="color:#669c35\;"><span style="font-family:helvetica\,sans-serif\;"><span style="font-size:10.5pt\;"><span style="white-space:pre-wrap\;">What a better way to add some color in your yard than with a colorful hanging basket. Pick your own plants then create your own arrangement.<br />\n<br />\n10 a.m. - 11 a.m. ~ </span></span></span></span></span><span style="color:#669C35\;"><span style="font-family:helvetica\,sans-serif\;"><span style="font-size:10.5pt\;"><span style="background-image:initial\;background-position:initial\;background-size:initial\;background-repeat:initial\;background-attachment:initial\;background-origin:initial\;background-clip:initial\;"><span style="white-space:pre-wrap\;">$25/person</span></span><br />\n<br style="white-space:pre-wrap\;" />\n<span style="background-image:initial\;background-position:initial\;background-size:initial\;background-repeat:initial\;background-attachment:initial\;background-origin:initial\;background-clip:initial\;"><span style="white-space:pre-wrap\;">E-mail Joanne at <a href="mailto:jimbosnursery75@gmail.com">jimbosnursery75@gmail.com</a> or call us at (409) 925-6933 to reserve your spot</span></span></span></span></span>
LOCATION:
UID:e.451.6695
SEQUENCE:3
DTSTAMP:20260423T033503Z
URL:https://www.santafetxchamber.com/events/details/adult-workshop-hanging-basket-fun-with-color-6695
END:VEVENT

END:VCALENDAR
