BEGIN:VCALENDAR
VERSION:2.0
PRODID:-//ChamberMaster//Event Calendar 2.0//EN
METHOD:PUBLISH
X-PUBLISHED-TTL:P3D
REFRESH-INTERVAL:P3D
CALSCALE:GREGORIAN
BEGIN:VEVENT
DTSTART:20190808T230000Z
DTEND:20190809T000000Z
X-MICROSOFT-CDO-ALLDAYEVENT:FALSE
SUMMARY:Adult Speaker Series
DESCRIPTION:Hosted by Gulf Coast Center\n\n\n\nJuly 11th - Hurricane Support\n\nJuly 18th - Self-Care\n\nJuly 25th - Ending the Silence (NAMI)\n\nAugust 1st - Substance Use\n\nAugust 8th - DePelchin (Parenting)\n\n\n\nCity of Santa Fe Resiliency Center\n\nlocated at Aldersgate United Methodist Church\n\n13217 FM 1764 in Santa Fe\n\n\n\nhttps://www.facebook.com/pg/santafestrongresiliencycenter/events/?ref=page_internal
X-ALT-DESC;FMTTYPE=text/html:Hosted by Gulf Coast Center<br />\n<br />\nJuly 11th - Hurricane Support<br />\nJuly 18th - Self-Care<br />\nJuly 25th - Ending the Silence (NAMI)<br />\nAugust 1st - Substance Use<br />\nAugust 8th - DePelchin (Parenting)<br />\n<br />\nCity of Santa Fe Resiliency Center<br />\nlocated at Aldersgate United Methodist Church<br />\n13217 FM 1764 in Santa Fe<br />\n<br />\n<a href="https://www.facebook.com/pg/santafestrongresiliencycenter/events/?ref=page_internal" target="_blank">https://www.facebook.com/pg/santafestrongresiliencycenter/events/?ref=page_internal</a>
LOCATION:
UID:e.451.7642
SEQUENCE:3
DTSTAMP:20260422T223323Z
URL:https://www.santafetxchamber.com/events/details/adult-speaker-series-08-08-2019-7642
END:VEVENT

END:VCALENDAR
