BEGIN:VCALENDAR
VERSION:2.0
PRODID:-//ChamberMaster//Event Calendar 2.0//EN
METHOD:PUBLISH
X-PUBLISHED-TTL:P3D
REFRESH-INTERVAL:P3D
CALSCALE:GREGORIAN
BEGIN:VEVENT
DTSTART:20170517T163000Z
DTEND:20170517T180000Z
X-MICROSOFT-CDO-ALLDAYEVENT:FALSE
SUMMARY:ACU of Texas Tailgate Luncheon
DESCRIPTION:ACU of Texas\, Santa Fe will be offering Free Lunch\n\nthey are accepting donations for Independence Village
X-ALT-DESC;FMTTYPE=text/html:ACU of Texas\, Santa Fe will be offering Free Lunch<br />\nthey are accepting donations for Independence Village
LOCATION:
UID:e.451.6204
SEQUENCE:3
DTSTAMP:20260424T112843Z
URL:https://www.santafetxchamber.com/events/details/acu-of-texas-tailgate-luncheon-6204
END:VEVENT

END:VCALENDAR
