BEGIN:VCALENDAR
VERSION:2.0
PRODID:-//ChamberMaster//Event Calendar 2.0//EN
METHOD:PUBLISH
X-PUBLISHED-TTL:P3D
REFRESH-INTERVAL:P3D
CALSCALE:GREGORIAN
BEGIN:VEVENT
DTSTART:20180902T000000Z
DTEND:20180902T020000Z
X-MICROSOFT-CDO-ALLDAYEVENT:FALSE
SUMMARY:A Night of Worship and Healing
DESCRIPTION:"Worship Santa Fe"\n\nwith Bobby Petrocelli and AWAK3N LIFE\n\nPublic\n\n\n   Hosted by Tammie Withers and Bobby Petrocelli
X-ALT-DESC;FMTTYPE=text/html:<h1 class="_5gmx" data-testid="event-permalink-event-name" id="seo_h1_tag" style="color: rgb(29\, 33\, 41)\; font-size: 20px\; margin: 0px 12px 0px 0px\; padding: 0px\; line-height: 28px\; font-family: Helvetica\, Arial\, sans-serif\;">&ldquo\;Worship Santa Fe&rdquo\;<br />\nwith Bobby Petrocelli and AWAK3N LIFE</h1>\n\n<div class="_5gnb" style="color: rgb(144\, 148\, 156)\; font-size: 14px\; line-height: 18px\; margin: 2px 12px 0px 0px\; font-family: Helvetica\, Arial\, sans-serif\;"><span data-testid="event_permalink_privacy" style="font-family: inherit\;">Public</span>\n\n<div class="_b9-" style="display: inline\; font-family: inherit\;">\n<div content="Tammie Withers &amp\; Bobby Petrocelli" data-testid="event_permalink_feature_line" style="font-family: inherit\; display: inline\;">&nbsp\;&middot\; Hosted by&nbsp\;<a data-hovercard="/ajax/hovercard/user.php?id=1200911877" data-hovercard-position="below" href="https://www.facebook.com/tammie.withers" style="color: rgb(54\, 88\, 153)\; cursor: pointer\; text-decoration-line: none\; font-family: inherit\;">Tammie Withers</a>&nbsp\;and&nbsp\;<a data-hovercard="/ajax/hovercard/user.php?id=100004610552528" data-hovercard-position="below" href="https://www.facebook.com/bobby.petrocelli.9" style="color: rgb(54\, 88\, 153)\; cursor: pointer\; text-decoration-line: none\; font-family: inherit\;">Bobby Petrocelli</a></div>\n</div>\n</div>\n
LOCATION:Dayspring Church 2215 FM 646 Rd. N Santa Fe\, Texas
UID:e.451.6637
SEQUENCE:3
DTSTAMP:20260423T150216Z
URL:https://www.santafetxchamber.com/events/details/a-night-of-worship-and-healing-6637
END:VEVENT

END:VCALENDAR
