BEGIN:VCALENDAR
VERSION:2.0
PRODID:-//ChamberMaster//Event Calendar 2.0//EN
METHOD:PUBLISH
X-PUBLISHED-TTL:P3D
REFRESH-INTERVAL:P3D
CALSCALE:GREGORIAN
BEGIN:VEVENT
DTSTART;VALUE=DATE:20211016
DTEND;VALUE=DATE:20211017
TRANSP:TRANSPARENT
X-MICROSOFT-CDO-ALLDAYEVENT:TRUE
SUMMARY:8th Annual Who's Your Flattie Daddy? Flounder Tournament
DESCRIPTION:Fishstix 8th anniversary of the greatest flounder tournament in existence. There are 6 different categories to win \,with over 22 places paid out! THIS YEAR WE HAVE 4) $25\,000.00 Jackpots.\n\nThis Tournament could pay over $100\,000.00 in cash! This is a family fun tournament and we encourage you to invite the whole family!
X-ALT-DESC;FMTTYPE=text/html:<span style="color: rgb(5\, 5\, 5)\; font-family: &quot\;Segoe UI Historic&quot\;\, &quot\;Segoe UI&quot\;\, Helvetica\, Arial\, sans-serif\; font-size: 15px\;">Fishstix 8th anniversary of the greatest flounder tournament in existence. There are 6 different categories to win \,with over 22 places paid out! THIS YEAR WE HAVE 4) $25\,000.00 Jackpots.</span><br style="color: rgb(5\, 5\, 5)\; font-family: &quot\;Segoe UI Historic&quot\;\, &quot\;Segoe UI&quot\;\, Helvetica\, Arial\, sans-serif\; font-size: 15px\;" />\n<span style="color: rgb(5\, 5\, 5)\; font-family: &quot\;Segoe UI Historic&quot\;\, &quot\;Segoe UI&quot\;\, Helvetica\, Arial\, sans-serif\; font-size: 15px\;">This Tournament could pay over $100\,000.00 in cash! This is a family fun tournament and we encourage you to invite the whole family!</span>
LOCATION:
UID:e.451.7837
SEQUENCE:3
DTSTAMP:20260421T051218Z
URL:https://www.santafetxchamber.com/events/details/8th-annual-who-s-your-flattie-daddy-flounder-tournament-7837
END:VEVENT

END:VCALENDAR
