BEGIN:VCALENDAR
VERSION:2.0
PRODID:-//ChamberMaster//Event Calendar 2.0//EN
METHOD:PUBLISH
X-PUBLISHED-TTL:P3D
REFRESH-INTERVAL:P3D
CALSCALE:GREGORIAN
BEGIN:VEVENT
DTSTART;VALUE=DATE:20170421
DTEND;VALUE=DATE:20170430
TRANSP:TRANSPARENT
X-MICROSOFT-CDO-ALLDAYEVENT:TRUE
SUMMARY:79th Annual Galveston County Fair & Rodeo
DESCRIPTION:April 21st - Roger Creager\n\nApril 22nd - Joe Diffie\n\nApril 23rd - Fiesta Sunday featuring Mariachis\, SonVacilon\, Tejano Knights and the Hometown Boys\n\nApril 27th - Bag of Donuts\n\nApril 28th - Cory Morrow\n\nApril 29th - Rick Trevino
X-ALT-DESC;FMTTYPE=text/html:April 21st - Roger Creager<br />\nApril 22nd - Joe Diffie<br />\nApril 23rd - Fiesta Sunday featuring Mariachis\, SonVacilon\, Tejano Knights and the Hometown Boys<br />\nApril 27th - Bag of Donuts<br />\nApril 28th - Cory Morrow<br />\nApril 29th - Rick Trevino
LOCATION:
UID:e.451.6188
SEQUENCE:3
DTSTAMP:20260424T123629Z
URL:https://www.santafetxchamber.com/events/details/79th-annual-galveston-county-fair-rodeo-6188
END:VEVENT

END:VCALENDAR
