BEGIN:VCALENDAR
VERSION:2.0
PRODID:-//ChamberMaster//Event Calendar 2.0//EN
METHOD:PUBLISH
X-PUBLISHED-TTL:P3D
REFRESH-INTERVAL:P3D
CALSCALE:GREGORIAN
BEGIN:VEVENT
DTSTART:20170506T123000Z
DTEND:20170506T150000Z
X-MICROSOFT-CDO-ALLDAYEVENT:FALSE
SUMMARY:5k in the Fe and Helicopter Golf Ball Drop
DESCRIPTION:1k Color Run\, 5k Fun Run & Helicopter Golf Ball Drop\n\nExercise for Education and help fund innovation grants for our SFISD classrooms.
X-ALT-DESC;FMTTYPE=text/html:1k Color Run\, 5k Fun Run &amp\; Helicopter Golf Ball Drop<br />\nExercise for Education and help fund innovation grants for our SFISD classrooms.
LOCATION:
UID:e.451.6194
SEQUENCE:3
DTSTAMP:20260424T113337Z
URL:https://www.santafetxchamber.com/events/details/5k-in-the-fe-and-helicopter-golf-ball-drop-6194
END:VEVENT

END:VCALENDAR
