BEGIN:VCALENDAR
VERSION:2.0
PRODID:-//ChamberMaster//Event Calendar 2.0//EN
METHOD:PUBLISH
X-PUBLISHED-TTL:P3D
REFRESH-INTERVAL:P3D
CALSCALE:GREGORIAN
BEGIN:VEVENT
DTSTART:20180505T123000Z
DTEND:20180505T160000Z
X-MICROSOFT-CDO-ALLDAYEVENT:FALSE
SUMMARY:5K Color Fun Run and Ball DRop
DESCRIPTION:Santa Fe Education Foundation's Annual Fun Run and Golf Ball Drop\n\nbenefiting Santa Fe ISD Classrooms and Students.\n\n\n\nClick HERE for Booster Club and Vendor Booth Space
X-ALT-DESC;FMTTYPE=text/html:Santa Fe Education Foundation&#39\;s Annual Fun Run and Golf Ball Drop<br />\nbenefiting Santa Fe ISD&nbsp\;Classrooms and Students.<br />\n<br />\nClick&nbsp\;<a href="https://chambermaster.blob.core.windows.net/userfiles/UserFiles/chambers/451/File/Education_Foundation/flyerforoutsidebusinessbooths2018.jpg">HERE</a>&nbsp\;for&nbsp\;Booster Club and Vendor Booth Space
LOCATION:Santa Fe High School Football Stadium
UID:e.451.6593
SEQUENCE:3
DTSTAMP:20260423T205629Z
URL:https://www.santafetxchamber.com/events/details/5k-color-fun-run-and-ball-drop-6593
END:VEVENT

END:VCALENDAR
