BEGIN:VCALENDAR
VERSION:2.0
PRODID:-//ChamberMaster//Event Calendar 2.0//EN
METHOD:PUBLISH
X-PUBLISHED-TTL:P3D
REFRESH-INTERVAL:P3D
CALSCALE:GREGORIAN
BEGIN:VEVENT
DTSTART:20180703T160000Z
DTEND:20180703T180000Z
X-MICROSOFT-CDO-ALLDAYEVENT:FALSE
SUMMARY:4th of July Celebration - COM
DESCRIPTION:Food\, Games\, Music and Prizes\n\nfor more Information Contact Michelle at 409-933-8351
X-ALT-DESC;FMTTYPE=text/html:Food\, Games\, Music and Prizes<br />\nfor more Information Contact Michelle at 409-933-8351
LOCATION:
UID:e.451.6596
SEQUENCE:3
DTSTAMP:20260423T175810Z
URL:https://www.santafetxchamber.com/events/details/4th-of-july-celebration-com-6596
END:VEVENT

END:VCALENDAR
