BEGIN:VCALENDAR
VERSION:2.0
PRODID:-//ChamberMaster//Event Calendar 2.0//EN
METHOD:PUBLISH
X-PUBLISHED-TTL:P3D
REFRESH-INTERVAL:P3D
CALSCALE:GREGORIAN
BEGIN:VEVENT
DTSTART:20160902T140000Z
DTEND:20160902T180000Z
X-MICROSOFT-CDO-ALLDAYEVENT:FALSE
SUMMARY:4th Annual Seaside Senior Expor
DESCRIPTION:A FREE event providing health care information to seniors\, family members and caregivers.
X-ALT-DESC;FMTTYPE=text/html:A FREE event providing health care information to seniors\, family members and caregivers.
LOCATION:Moody Methodist Church 2803 53rd Street Galveston\, Texas
UID:e.451.5838
SEQUENCE:3
DTSTAMP:20260425T011005Z
URL:https://www.santafetxchamber.com/events/details/4th-annual-seaside-senior-expor-5838
END:VEVENT

END:VCALENDAR
