BEGIN:VCALENDAR
VERSION:2.0
PRODID:-//ChamberMaster//Event Calendar 2.0//EN
METHOD:PUBLISH
X-PUBLISHED-TTL:P3D
REFRESH-INTERVAL:P3D
CALSCALE:GREGORIAN
BEGIN:VEVENT
DTSTART:20170420T170000Z
DTEND:20170420T200000Z
X-MICROSOFT-CDO-ALLDAYEVENT:FALSE
SUMMARY:3rd Annual Veteran Health and Resource Fair
DESCRIPTION:College of the Mainland - Free Event Open to All veterans\, COM students\, faculty\, staff and the community.
X-ALT-DESC;FMTTYPE=text/html:College of the Mainland - Free Event Open to All veterans\, COM students\, faculty\, staff and the community.
LOCATION:
UID:e.451.6187
SEQUENCE:3
DTSTAMP:20260424T123649Z
URL:https://www.santafetxchamber.com/events/details/3rd-annual-veteran-health-and-resource-fair-6187
END:VEVENT

END:VCALENDAR
