BEGIN:VCALENDAR
VERSION:2.0
PRODID:-//ChamberMaster//Event Calendar 2.0//EN
METHOD:PUBLISH
X-PUBLISHED-TTL:P3D
REFRESH-INTERVAL:P3D
CALSCALE:GREGORIAN
BEGIN:VEVENT
DTSTART;VALUE=DATE:20210827
DTEND;VALUE=DATE:20210829
TRANSP:TRANSPARENT
X-MICROSOFT-CDO-ALLDAYEVENT:TRUE
SUMMARY:3rd Annual Chris Stone Memorial Cook-Off
DESCRIPTION:
X-ALT-DESC;FMTTYPE=text/html:
LOCATION:5490 CR 154
UID:e.451.7836
SEQUENCE:3
DTSTAMP:20260421T085058Z
URL:https://www.santafetxchamber.com/events/details/3rd-annual-chris-stone-memorial-cook-off-7836
END:VEVENT

END:VCALENDAR
