BEGIN:VCALENDAR
VERSION:2.0
PRODID:-//ChamberMaster//Event Calendar 2.0//EN
METHOD:PUBLISH
X-PUBLISHED-TTL:P3D
REFRESH-INTERVAL:P3D
CALSCALE:GREGORIAN
BEGIN:VEVENT
DTSTART;VALUE=DATE:20161009
DTEND;VALUE=DATE:20161010
TRANSP:TRANSPARENT
X-MICROSOFT-CDO-ALLDAYEVENT:TRUE
SUMMARY:38th Annual Chamber Golf Tournament
DESCRIPTION:SWING on over to TOPGOLF ~ It's PAR-TEE Time!!!\n\nWhy hang out with the same FORE people all day when you can mix and mingle with everyone in attendance.\n\n\n\nNew and exciting ~ GOLF with our local Celebrities... Chief Jeff Powell\, Commissioner Joe Giusti\, Congressman Randy Weber\, Constable Jimmy Fullen\, Councilman Bill Pitman\, Councilman Bubba Jannett\, Mayor Jeff Tambrella\, and State Representative Dr. Greg Bonnen.  More to be Announced...
X-ALT-DESC;FMTTYPE=text/html:SWING on over to TOPGOLF ~ It&#39\;s PAR-TEE Time!!!<br />\nWhy hang out with the same FORE people all day when you can mix and mingle with everyone in attendance.<br />\n<br />\nNew and exciting ~ GOLF with our local Celebrities... Chief Jeff Powell\, Commissioner Joe Giusti\, Congressman Randy Weber\, Constable Jimmy Fullen\, Councilman Bill Pitman\, Councilman Bubba Jannett\, Mayor Jeff Tambrella\, and State Representative Dr. Greg Bonnen. &nbsp\;More to be Announced...<br />\n&nbsp\;
LOCATION:Topgolf 21401 Gulf Freeway Webster\, Texas
UID:e.451.5185
SEQUENCE:3
DTSTAMP:20260425T023430Z
URL:https://www.santafetxchamber.com/events/details/38th-annual-chamber-golf-tournament-5185
END:VEVENT

END:VCALENDAR
