BEGIN:VCALENDAR
VERSION:2.0
PRODID:-//ChamberMaster//Event Calendar 2.0//EN
METHOD:PUBLISH
X-PUBLISHED-TTL:P3D
REFRESH-INTERVAL:P3D
CALSCALE:GREGORIAN
BEGIN:VEVENT
DTSTART:20190427T150000Z
DTEND:20190427T210000Z
X-MICROSOFT-CDO-ALLDAYEVENT:FALSE
SUMMARY:3's for Trees 3-on-3 Basketball Tournament
DESCRIPTION:Keep Santa Fe Beautiful's First Annual\n\n3's for Trees\n\n3-on-3 Basketball Tournament
X-ALT-DESC;FMTTYPE=text/html:Keep Santa Fe Beautiful&#39\;s First Annual<br />\n3&#39\;s for Trees<br />\n3-on-3 Basketball Tournament
LOCATION:
UID:e.451.7254
SEQUENCE:3
DTSTAMP:20260423T021803Z
URL:https://www.santafetxchamber.com/events/details/3-s-for-trees-3-on-3-basketball-tournament-7254
END:VEVENT

END:VCALENDAR
