BEGIN:VCALENDAR
VERSION:2.0
PRODID:-//ChamberMaster//Event Calendar 2.0//EN
METHOD:PUBLISH
X-PUBLISHED-TTL:P3D
REFRESH-INTERVAL:P3D
CALSCALE:GREGORIAN
BEGIN:VEVENT
DTSTART;VALUE=DATE:20160819
DTEND;VALUE=DATE:20160820
TRANSP:TRANSPARENT
X-MICROSOFT-CDO-ALLDAYEVENT:TRUE
SUMMARY:2nd Annual Evenug with cory morrow @ HAAK Vineyard & Winery
DESCRIPTION:
X-ALT-DESC;FMTTYPE=text/html:
LOCATION:
UID:e.451.5221
SEQUENCE:3
DTSTAMP:20260425T041911Z
URL:https://www.santafetxchamber.com/events/details/2nd-annual-evenug-with-cory-morrow-haak-vineyard-winery-08-19-2016-5221
END:VEVENT

END:VCALENDAR
