BEGIN:VCALENDAR
VERSION:2.0
PRODID:-//ChamberMaster//Event Calendar 2.0//EN
METHOD:PUBLISH
X-PUBLISHED-TTL:P3D
REFRESH-INTERVAL:P3D
CALSCALE:GREGORIAN
BEGIN:VEVENT
DTSTART:20210729T230000Z
DTEND:20210730T010000Z
X-MICROSOFT-CDO-ALLDAYEVENT:FALSE
SUMMARY:2022 Campaign Kick-Off BBQ
DESCRIPTION:
X-ALT-DESC;FMTTYPE=text/html:
LOCATION:
UID:e.451.7832
SEQUENCE:3
DTSTAMP:20260421T111701Z
URL:https://www.santafetxchamber.com/events/details/2022-campaign-kick-off-bbq-7832
END:VEVENT

END:VCALENDAR
