BEGIN:VCALENDAR
VERSION:2.0
PRODID:-//ChamberMaster//Event Calendar 2.0//EN
METHOD:PUBLISH
X-PUBLISHED-TTL:P3D
REFRESH-INTERVAL:P3D
CALSCALE:GREGORIAN
BEGIN:VEVENT
DTSTART;VALUE=DATE:20180309
DTEND;VALUE=DATE:20180311
TRANSP:TRANSPARENT
X-MICROSOFT-CDO-ALLDAYEVENT:TRUE
SUMMARY:2018 Santa Fe POA BBQ Cook-Off
DESCRIPTION:Santa Fe Police Officer's Association\n\nBBQ Cook-Off\n\nOpen Seafood\, Chicken\, Ribs & Brisket
X-ALT-DESC;FMTTYPE=text/html:Santa Fe Police Officer&#39\;s Association<br />\nBBQ Cook-Off<br />\nOpen Seafood\, Chicken\, Ribs &amp\; Brisket
LOCATION:
UID:e.451.6594
SEQUENCE:3
DTSTAMP:20260423T235407Z
URL:https://www.santafetxchamber.com/events/details/2018-santa-fe-poa-bbq-cook-off-6594
END:VEVENT

END:VCALENDAR
