BEGIN:VCALENDAR
VERSION:2.0
PRODID:-//ChamberMaster//Event Calendar 2.0//EN
METHOD:PUBLISH
X-PUBLISHED-TTL:P3D
REFRESH-INTERVAL:P3D
CALSCALE:GREGORIAN
BEGIN:VEVENT
DTSTART:20160901T140000Z
DTEND:20160901T190000Z
X-MICROSOFT-CDO-ALLDAYEVENT:FALSE
SUMMARY:2016 Galveston County Transportation Summit
DESCRIPTION:The summit will feature panel discussions on transportation planning\, specific project design and timelines and state and national perspectives on critical transportation issues featuring many of our community leaders and elected officials as well as senior staff from TxDOT and HGAC. Presenters will include Congressman Randy Weber\, Senator Larry Taylor\, Representatives Wayne Faircloth and Greg Bonnen and others.
X-ALT-DESC;FMTTYPE=text/html:<span style="color: rgb(0\, 0\, 0)\; font-family: Arial\, Helvetica\, sans-serif\; font-size: 12px\; line-height: 17.4px\; background-color: rgb(250\, 250\, 250)\;">The summit will feature panel discussions on transportation planning\, specific project design and timelines and state and national perspectives on critical transportation issues featuring many of our community leaders and elected officials as well as senior staff from TxDOT and HGAC. Presenters will include Congressman Randy Weber\, Senator Larry Taylor\, Representatives Wayne Faircloth and Greg Bonnen and others.</span>
LOCATION:Charles Doyle Convention Center Texas City\, Texas
UID:e.451.5837
SEQUENCE:3
DTSTAMP:20260424T233044Z
URL:https://www.santafetxchamber.com/events/details/2016-galveston-county-transportation-summit-5837
END:VEVENT

END:VCALENDAR
