BEGIN:VCALENDAR
VERSION:2.0
PRODID:-//ChamberMaster//Event Calendar 2.0//EN
METHOD:PUBLISH
X-PUBLISHED-TTL:P3D
REFRESH-INTERVAL:P3D
CALSCALE:GREGORIAN
BEGIN:VEVENT
DTSTART:20180913T223000Z
DTEND:20180914T003000Z
X-MICROSOFT-CDO-ALLDAYEVENT:FALSE
SUMMARY:1st Annual Galveston County Board Fair
DESCRIPTION:Are you looking for a way to make a REAL difference in your community? To connect your passion and talent to a great purpose? Discover board leadership! United Way Galveston County Mainland and Galveston County Mutual Assistance partnership invite you to attend this unique opportunity to discover and network with a host of extraordinary local Galveston County organizations that are actively working to build and restore our community and all in one convenient location. What better way to connect your passion\, purpose and talents to support a stronger\, more vibrant Galveston County. Light refreshments served
X-ALT-DESC;FMTTYPE=text/html:Are you looking for a way to make a REAL difference in your community? To connect your passion and talent to a great purpose? Discover board leadership! United Way Galveston County Mainland and Galveston County Mutual Assistance partnership invite you to attend this unique opportunity to discover and network with a host of extraordinary local Galveston County organizations that are actively working to build and restore our community and all in one convenient location. What better way to connect your passion\, purpose and talents to support a stronger\, more vibrant Galveston County. Light refreshments served
LOCATION:The Nessler Center 2010 5th Avenue North Texas City\, TX 77590
UID:e.451.6647
SEQUENCE:3
DTSTAMP:20260423T163503Z
URL:https://www.santafetxchamber.com/events/details/1st-annual-galveston-county-board-fair-6647
END:VEVENT

END:VCALENDAR
