BEGIN:VCALENDAR
VERSION:2.0
PRODID:-//ChamberMaster//Event Calendar 2.0//EN
METHOD:PUBLISH
X-PUBLISHED-TTL:P3D
REFRESH-INTERVAL:P3D
CALSCALE:GREGORIAN
BEGIN:VEVENT
DTSTART:20170503T233000Z
DTEND:20170504T010000Z
X-MICROSOFT-CDO-ALLDAYEVENT:FALSE
SUMMARY:10th Annual Chelsey's 5k for Kids
DESCRIPTION:Benefiting the Snowdrop Foundation\n\nWalk\, Silent Auction and Vendors
X-ALT-DESC;FMTTYPE=text/html:Benefiting the Snowdrop Foundation<br />\nWalk\, Silent Auction and Vendors
LOCATION:
UID:e.451.6193
SEQUENCE:3
DTSTAMP:20260424T113229Z
URL:https://www.santafetxchamber.com/events/details/10th-annual-chelsey-s-5k-for-kids-6193
END:VEVENT

END:VCALENDAR
